BEGIN:VCALENDAR
VERSION:2.0
PRODID:-//wp-events-plugin.com//7.2.3.1//EN
TZID:Europe/Paris
X-WR-TIMEZONE:Europe/Paris
BEGIN:VEVENT
UID:2144@orcajeumontplongee.fr
DTSTART;TZID=Europe/Paris:20260429T180000
DTEND;TZID=Europe/Paris:20260429T220000
DTSTAMP:20260422T155619Z
URL:https://www.orcajeumontplongee.fr/events/formation-pratique-niveau-2-2
 /
SUMMARY:Formation pratique Niveau 2
DESCRIPTION:DP/Encadrant Christian\,\n\nSéance fosse Emeraude\n\nparticipa
 nt:\n\n&nbsp\;\n\n&nbsp\;\n\n&nbsp\;\n\n&nbsp\;\n\n&nbsp\;\n\n&nbsp\;
LOCATION:L'Emeraude\, D121 Plaine Delbasse\, LOUVROIL\, 59720\, France
GEO:50.259972;3.942114
X-APPLE-STRUCTURED-LOCATION;VALUE=URI;X-ADDRESS=D121 Plaine Delbasse\, LOUV
 ROIL\, 59720\, France;X-APPLE-RADIUS=100;X-TITLE=L'Emeraude:geo:50.259972,
 3.942114
END:VEVENT
BEGIN:VTIMEZONE
TZID:Europe/Paris
X-LIC-LOCATION:Europe/Paris
BEGIN:DAYLIGHT
DTSTART:20260329T030000
TZOFFSETFROM:+0100
TZOFFSETTO:+0200
TZNAME:CEST
END:DAYLIGHT
END:VTIMEZONE
END:VCALENDAR