BEGIN:VCALENDAR
VERSION:2.0
PRODID:-//wp-events-plugin.com//7.2.3.1//EN
TZID:Europe/Paris
X-WR-TIMEZONE:Europe/Paris
BEGIN:VEVENT
UID:2065@orcajeumontplongee.fr
DTSTART;TZID=Europe/Paris:20251031T200000
DTEND;TZID=Europe/Paris:20251031T220000
DTSTAMP:20251025T123920Z
URL:https://www.orcajeumontplongee.fr/events/piscine-recquignies-2/
SUMMARY:Piscine Recquignies
DESCRIPTION:NAP pour tous et conditions physiques
CATEGORIES:Piscine
LOCATION:Piscine Boussois- Recquignies-\, 1 rue de la Feutrerie\, Boussois-
 Recquignies\, France
X-APPLE-STRUCTURED-LOCATION;VALUE=URI;X-ADDRESS=1 rue de la Feutrerie\, Bou
 ssois-Recquignies\, France;X-APPLE-RADIUS=100;X-TITLE=Piscine Boussois- Re
 cquignies-:geo:0,0
END:VEVENT
BEGIN:VTIMEZONE
TZID:Europe/Paris
X-LIC-LOCATION:Europe/Paris
BEGIN:STANDARD
DTSTART:20251026T020000
TZOFFSETFROM:+0200
TZOFFSETTO:+0100
TZNAME:CET
END:STANDARD
END:VTIMEZONE
END:VCALENDAR