BEGIN:VCALENDAR
VERSION:2.0
PRODID:-//wp-events-plugin.com//7.2.3.1//EN
TZID:Europe/Paris
X-WR-TIMEZONE:Europe/Paris
BEGIN:VEVENT
UID:2066@orcajeumontplongee.fr
DTSTART;TZID=Europe/Paris:20251102T120000
DTEND;TZID=Europe/Paris:20251102T170000
DTSTAMP:20251025T193238Z
URL:https://www.orcajeumontplongee.fr/events/plongee-a-vodelee-9/
SUMMARY:Plongée à Vodelée
DESCRIPTION:DP/Encadrant Christian\,\n\nrdv sur place 13H40 pour une mise 
 à l'eau prévue  à 14H40\n\nune place encore disponible pour un plongeu
 r aptitude PE40 minimum\n\nInscription auprès de Christian\n\ninscrits: 
  Sandrine
LOCATION:Carrière de Vodelée\, route de Gimnée\, 90C\, Doische \, Belgiq
 ue
GEO:50.16505799999999;4.7277312999999594
X-APPLE-STRUCTURED-LOCATION;VALUE=URI;X-ADDRESS=route de Gimnée\, 90C\, Do
 ische \, Belgique;X-APPLE-RADIUS=100;X-TITLE=Carrière de Vodelée:geo:50.
 16505799999999,4.7277312999999594
END:VEVENT
BEGIN:VTIMEZONE
TZID:Europe/Paris
X-LIC-LOCATION:Europe/Paris
BEGIN:STANDARD
DTSTART:20251026T020000
TZOFFSETFROM:+0200
TZOFFSETTO:+0100
TZNAME:CET
END:STANDARD
END:VTIMEZONE
END:VCALENDAR